BEGIN:VCALENDAR
VERSION:2.0
PRODID:-//wp-events-plugin.com//7.2.3.1//EN
BEGIN:VEVENT
UID:415@academy.polychorcapital.com
DTSTART;TZID=Europe/Bucharest:20260504T090000
DTEND;TZID=Europe/Bucharest:20260506T163000
DTSTAMP:20251231T135526Z
URL:https://academy.polychorcapital.com/events/itil4-change-enablement-202
 6-05-04/
SUMMARY:ITIL4® Change Enablement
DESCRIPTION:&nbsp\;\n\nAbout the course\n\nThis e-Learning course provides 
 a comprehensive understanding of Change Enablement\, covering essential to
 pics such as the ITIL® 4 qualification scheme\, roles and responsibilitie
 s\, and key metrics for success. Participants will learn to implement effe
 ctive value streams and processes\, improve their organization's capabilit
 ies through self-assessment techniques\, and leverage automation for optim
 ized information exchange. By the end of the course\, you'll be equipped w
 ith practical strategies for Change Enablement excellence\, ready to drive
  success in your IT organization. Enroll today to elevate your service del
 ivery!\n\nWhat will you learn\n\n 	Understand the purpose and key concepts
  of Change Enablement\, highlighting its importance in managing changes ef
 fectively to minimise risk and ensure business continuity.\n 	Learn about 
 practice success factors (PSF) and key practice metrics\, essential for ev
 aluating the effectiveness and efficiency of Change Enablement in achievin
 g controlled and successful change implementation.\n 	Explore Change Enabl
 ement processes\, including key activities\, and learn how to integrate th
 em into your organisation's value stream to ensure seamless and coordinate
 d change activities.\n 	Focus on key roles within Change Enablement\, and 
 understand how to position the practice effectively within your organisati
 on. Develop the necessary competencies for overseeing and managing change 
 initiatives.\n 	See how Information and Technology can support and enable 
 Change to deliver improvements\, providing tools and systems for effective
  planning\, tracking\, and implementation of changes.\n 	Explore the role 
 of partners and suppliers in Change Enablement\, understanding how to coll
 aborate effectively to enhance change processes and ensure successful outc
 omes.\n 	Discover how the capability criteria support the practice's capab
 ility development\, ensuring alignment with industry best practices and or
 ganisational requirements for effective Change Enablement.\n 	Learn strate
 gies for succeeding with Change Enablement and understand how it is suppor
 ted by the ITIL guiding principles\, ensuring the establishment of robust 
 change management practices to achieve business goals and deliver value.\n
 \n&nbsp\;\n\nE-Learning\n\nInteractive\, Self-paced\, Device-friendly\, 2-
 3-hour content\, Mobile-optimized\, Practical exercises\n\n 	Experience e-
 learning through concise\, easily digestible sessions. Perfect for busy sc
 hedules\, these bite-sized modules make learning both manageable and enjoy
 able.\n 	Dive into an interactive environment filled with multimedia eleme
 nts\, quizzes and activities that make your journey through the course tho
 roughly engaging and enriching.\n 	Take charge of your education. This sel
 f-directed learning format lets you choose your focus areas\, enabling you
  to tailor your educational journey to your personal goals.\n 	Take advant
 age of closed captioning and adjustable player settings. This personalised
  approach ensures a comfortable and effective learning experience for ever
 yone.\n 	Stay on top of your learning with real-time progress tracking. Kn
 owledge checks reinforce your understanding\, ensuring a solid grasp of th
 e material as you progress.\n 	Each module includes a detailed learning ch
 ecklist\, guiding you through the course structure and ensuring you cover 
 all key topics.\n 	Delivered via the Canvas Learning Management System\, t
 his course offers a user-friendly learning experience.\n 	Access the Offic
 ial ITIL 4 glossary anytime\, as it has been included into the course. Thi
 s handy resource is a valuable tool for quick reference and to deepen your
  knowledge of ITIL 4 terminology.\n\n\nTraining materials\n\n 	Peoplecert 
 official ITIL4® Change Enablement Learner Workbook (including Syllabus\, 
 Quick Reference Guide and two Sample Exams)\n 	Peoplecert ITIL4 Change Ena
 blement e-Learning training environment\n 	Peoplecert official ITIL4 Chang
 e Enablement Book (Digital Version)\n 	ITIL4® Change Enablement Exam Vouc
 her to take the exam within 12 months after completing the course\n\n\nAud
 ience\n\nSuitable for all IT professionals. Popular among professionals wh
 o have advanced to roles such as: IT Specialist: Operations\, IT Manager: 
 Operations\, IT Service Manager\, Data Analyst\, Data Scientist\, Network 
 Engineer\, Network Administrator\, Solutions Architect.\n\nRequirements\n\
 nYou must have passed the ITIL4® Foundation exam before taking the ITIL®
  Change Enablement exam.
ATTACH;FMTTYPE=image/jpeg:https://i0.wp.com/academy.polychorcapital.com/wp
 -content/uploads/2025/12/ITIL-4-Practitioner-Change-Enablement-1200x1200-1
 .png?fit=1200%2C1200&ssl=1
CATEGORIES:ITIL4 Practitioner e-Learning
END:VEVENT
BEGIN:VTIMEZONE
TZID:Europe/Bucharest
X-LIC-LOCATION:Europe/Bucharest
BEGIN:DAYLIGHT
DTSTART:20260329T040000
TZOFFSETFROM:+0200
TZOFFSETTO:+0300
TZNAME:EEST
END:DAYLIGHT
END:VTIMEZONE
END:VCALENDAR