BEGIN:VCALENDAR
VERSION:2.0
PRODID:-//wp-events-plugin.com//7.2.3.1//EN
BEGIN:VEVENT
UID:328@academy.polychorcapital.com
DTSTART;TZID=Europe/Bucharest:20260907T090000
DTEND;TZID=Europe/Bucharest:20260909T163000
DTSTAMP:20251231T101828Z
URL:https://academy.polychorcapital.com/events/itil4-continual-improvement
 -2026-09-07/
SUMMARY:ITIL4® Continual Improvement
DESCRIPTION:&nbsp\;\n\nAbout the course\n\nThis e-Learning course provides 
 a comprehensive understanding of Continual Improvement\, covering essentia
 l topics such as the ITIL® 4 qualification scheme\, roles and responsibil
 ities\, and key metrics for success. Participants will learn to implement 
 effective value streams and processes\, improve their organization's capab
 ilities through self-assessment techniques\, and leverage automation for o
 ptimized information exchange. By the end of the course\, you'll be equipp
 ed with practical strategies for Continual Improvement excellence\, ready 
 to drive success in your IT organization. Enroll today to elevate your ser
 vice delivery!\n\nWhat will you learn\n\n 	Understand the purpose and key 
 concepts of the Continual Improvement Practice\, elucidating its significa
 nce in fostering a culture of ongoing improvement and innovation within th
 e organisation.\n 	Understand the purpose and key concepts of the Continua
 l Improvement Practice\, elucidating its significance in fostering a cultu
 re of ongoing improvement and innovation within the organisation.\n 	Explo
 re Continual Improvement processes\, including key activities\, and learn 
 how to integrate them into your organisation's value stream to drive conti
 nuous enhancement and refinement of services\, processes\, and practices.\
 n 	Focus on key roles within Continual Improvement\, and understand how to
  position the practice effectively within your organisation. Develop the n
 ecessary competencies for leading\, facilitating\, and supporting improvem
 ent initiatives.\n 	See how Information and Technology can support and ena
 ble Continual Improvement to deliver improvements\, providing tools\, syst
 ems\, and data for monitoring\, analysing\, and prioritising improvement o
 pportunities.\n 	Explore the role of partners and suppliers in Continual I
 mprovement\, understanding how to collaborate effectively to leverage exte
 rnal expertise\, resources\, and best practices to drive improvement initi
 atives.\n 	Discover how the capability criteria support the practice's cap
 ability development\, ensuring alignment with industry best practices and 
 organisational requirements for effective Continual Improvement.\n 	Learn 
 strategies for succeeding with Continual Improvement and understand how it
  is supported by the ITIL guiding principles\, ensuring the establishment 
 of a systematic approach to improvement and innovation to achieve business
  goals.v\n\n&nbsp\;\n\nE-Learning\n\nInteractive\, Self-paced\, Device-fri
 endly\, 2-3-hour content\, Mobile-optimized\, Practical exercises\n\n 	Exp
 erience e-learning through concise\, easily digestible sessions. Perfect f
 or busy schedules\, these bite-sized modules make learning both manageable
  and enjoyable.\n 	Dive into an interactive environment filled with multim
 edia elements\, quizzes and activities that make your journey through the 
 course thoroughly engaging and enriching.\n 	Take charge of your education
 . This self-directed learning format lets you choose your focus areas\, en
 abling you to tailor your educational journey to your personal goals.\n 	T
 ake advantage of closed captioning and adjustable player settings. This pe
 rsonalised approach ensures a comfortable and effective learning experienc
 e for everyone.\n 	Stay on top of your learning with real-time progress tr
 acking. Knowledge checks reinforce your understanding\, ensuring a solid g
 rasp of the material as you progress.\n 	Each module includes a detailed l
 earning checklist\, guiding you through the course structure and ensuring 
 you cover all key topics.\n 	Delivered via the Canvas Learning Management 
 System\, this course offers a user-friendly learning experience.\n 	Access
  the Official ITIL 4 glossary anytime\, as it has been included into the c
 ourse. This handy resource is a valuable tool for quick reference and to d
 eepen your knowledge of ITIL 4 terminology.\n\n\nTraining materials\n\n 	P
 eoplecert official ITIL4® Continual Improvement Learner Workbook (includi
 ng Syllabus\, Quick Reference Guide and two Sample Exams)\n 	Peoplecert IT
 IL4 Continual Improvement e-Learning training environment\n 	Peoplecert of
 ficial ITIL4 Continual Improvement Book (Digital Version)\n 	ITIL4® Conti
 nual Improvement Exam Voucher to take the exam within 12 months after comp
 leting the course\n\n\nAudience\n\nSuitable for all IT professionals. Popu
 lar among professionals who have advanced to roles such as: IT Specialist:
  Operations\, IT Manager: Operations\, Product Manager\, Data Scientist\, 
 Web Developer\, System Administrator\, Enterprise Architect\, IT Service M
 anager\, IT Service Desk Analyst.\n\nRequirements\n\nYou must have passed 
 the ITIL4® Foundation exam before taking the ITIL® Continual Improvement
  exam.\n\n&nbsp\;
ATTACH;FMTTYPE=image/jpeg:https://i0.wp.com/academy.polychorcapital.com/wp
 -content/uploads/2025/12/ITIL-4-Practitioner-Continual-Improvement-1200x12
 00-1.png?fit=1200%2C1200&ssl=1
CATEGORIES:ITIL4 Practitioner e-Learning
END:VEVENT
BEGIN:VTIMEZONE
TZID:Europe/Bucharest
X-LIC-LOCATION:Europe/Bucharest
BEGIN:DAYLIGHT
DTSTART:20260329T040000
TZOFFSETFROM:+0200
TZOFFSETTO:+0300
TZNAME:EEST
END:DAYLIGHT
END:VTIMEZONE
END:VCALENDAR