BEGIN:VCALENDAR
VERSION:2.0
PRODID:-//wp-events-plugin.com//7.2.3.1//EN
BEGIN:VEVENT
UID:383@academy.polychorcapital.com
DTSTART;TZID=Europe/Bucharest:20261207T090000
DTEND;TZID=Europe/Bucharest:20261209T163000
DTSTAMP:20251231T102257Z
URL:https://academy.polychorcapital.com/events/itil4-deployment-management
 -2026-12-07/
SUMMARY:ITIL4® Deployment Management
DESCRIPTION:&nbsp\;\n\nAbout the course\n\nThis e-Learning course provides 
 a comprehensive understanding of Deployment Management\, covering essentia
 l topics such as the ITIL® 4 qualification scheme\, roles and responsibil
 ities\, and key metrics for success. Participants will learn to implement 
 effective value streams and processes\, improve their organization's capab
 ilities through self-assessment techniques\, and leverage automation for o
 ptimized information exchange. By the end of the course\, you'll be equipp
 ed with practical strategies for Deployment Management excellence\, ready 
 to drive success in your IT organization. Enroll today to elevate your ser
 vice delivery!\n\nWhat will you learn\n\n 	Understand the purpose and key 
 concepts of Deployment Management\, highlighting its importance in managin
 g the deployment of new or changed services into the live environment.\n 	
 Learn about practice success factors (PSF) and key practice metrics\, esse
 ntial for evaluating the effectiveness and efficiency of Deployment Manage
 ment in achieving seamless and successful deployments.\n 	Explore Deployme
 nt Management processes\, including key activities\, and learn how to inte
 grate them into your organisation's value stream to ensure smooth and coor
 dinated deployment activities.\n 	Focus on key roles within Deployment Man
 agement\, and understand how to position the practice effectively within y
 our organisation. Develop the necessary competencies for overseeing and ma
 naging deployment tasks.\n 	See how Information and Technology can support
  and enable Deployment Management to deliver improvements\, providing tool
 s and systems for effective planning\, tracking\, and execution of deploym
 ents.\n 	Explore the role of partners and suppliers in Deployment Manageme
 nt\, understanding how to collaborate effectively to enhance deployment pr
 ocesses and ensure successful implementation.\n 	Discover how the capabili
 ty criteria support the practice's capability development\, ensuring align
 ment with industry best practices and organisational requirements for effe
 ctive Deployment Management.\n 	Learn strategies for succeeding with Deplo
 yment Management and understand how it is supported by the ITIL guiding pr
 inciples\, ensuring the establishment of robust deployment practices to ac
 hieve business goals and deliver value.\n\n&nbsp\;\n\nE-Learning\n\nIntera
 ctive\, Self-paced\, Device-friendly\, 2-3-hour content\, Mobile-optimized
 \, Practical exercises\n\n 	Experience e-learning through concise\, easily
  digestible sessions. Perfect for busy schedules\, these bite-sized module
 s make learning both manageable and enjoyable.\n 	Dive into an interactive
  environment filled with multimedia elements\, quizzes and activities that
  make your journey through the course thoroughly engaging and enriching.\n
  	Take charge of your education. This self-directed learning format lets y
 ou choose your focus areas\, enabling you to tailor your educational journ
 ey to your personal goals.\n 	Take advantage of closed captioning and adju
 stable player settings. This personalised approach ensures a comfortable a
 nd effective learning experience for everyone.\n 	Stay on top of your lear
 ning with real-time progress tracking. Knowledge checks reinforce your und
 erstanding\, ensuring a solid grasp of the material as you progress.\n 	Ea
 ch module includes a detailed learning checklist\, guiding you through the
  course structure and ensuring you cover all key topics.\n 	Delivered via 
 the Canvas Learning Management System\, this course offers a user-friendly
  learning experience.\n 	Access the Official ITIL 4 glossary anytime\, as 
 it has been included into the course. This handy resource is a valuable to
 ol for quick reference and to deepen your knowledge of ITIL 4 terminology.
 \n\n\nTraining materials\n\n 	Peoplecert official ITIL4® Deployment Manag
 ement Learner Workbook (including Syllabus\, Quick Reference Guide and two
  Sample Exams)\n 	Peoplecert ITIL4 Deployment Management online training e
 nvironment\n 	Peoplecert official ITIL4 Deployment Management Book (Digita
 l Version)\n 	ITIL4® Deployment Management Exam Voucher to take the exam 
 within 12 months after completing the course\n\n\nAudience\n\nSuitable for
  all IT professionals. Popular among professionals who have advanced to ro
 les such as: IT Specialist: Development\, IT Specialist: Changes\, IT Mana
 ger: Operations\, IT Service Manager.\n\n&nbsp\;\n\nRequirements\n\nYou mu
 st have passed the ITIL4® Foundation exam before taking the ITIL® Deploy
 ment Management exam.
ATTACH;FMTTYPE=image/jpeg:https://i0.wp.com/academy.polychorcapital.com/wp
 -content/uploads/2025/12/ITIL-4-Practitioner-Deployment-Management-1200x12
 00-1.png?fit=1200%2C1200&ssl=1
CATEGORIES:ITIL4 Practitioner e-Learning
END:VEVENT
BEGIN:VTIMEZONE
TZID:Europe/Bucharest
X-LIC-LOCATION:Europe/Bucharest
BEGIN:STANDARD
DTSTART:20261025T030000
TZOFFSETFROM:+0300
TZOFFSETTO:+0200
TZNAME:EET
END:STANDARD
END:VTIMEZONE
END:VCALENDAR