BEGIN:VCALENDAR
VERSION:2.0
PRODID:-//wp-events-plugin.com//7.2.3.1//EN
BEGIN:VEVENT
UID:469@academy.polychorcapital.com
DTSTART;TZID=Europe/Bucharest:20260706T090000
DTEND;TZID=Europe/Bucharest:20260708T163000
DTSTAMP:20251231T114555Z
URL:https://academy.polychorcapital.com/events/itil4-digital-it-strategy-2
 026-01-05-2026-02-02-2026-03-02-2026-04-06-2026-05-04-2026-06-01-2026-07-0
 6/
SUMMARY:ITIL4® Digital & IT Strategy
DESCRIPTION:&nbsp\;\n\nAbout the course\n\nThe e-Learning ITIL® 4 Speciali
 st: Drive Stakeholder Value (DSV) course is a professional-level certifica
 tion that focuses on the engagement between service providers and their st
 akeholders. It is a core module for the ITIL 4 Managing Professional desig
 nation.\n\n&nbsp\;\n\nWhat will you learn\n\n 	Develop the skills to asses
 s internal and external factors when crafting a digital vision and cross-o
 rganisational strategy. Gain a deeper understanding of the evolving landsc
 ape of modern service economies and why organisations need to adapt their 
 strategies to stay competitive.\n 	Explore the impact and importance of a 
 successful digital strategy on overall business success. Learn how digital
  strategy affects the various aspects of the business and how it can drive
  innovation and growth.\n 	Discover how digital and IT strategies integrat
 e into the ITIL 4 service value system and align with guiding principles. 
 Learn to implement strategies effectively across the service value chain a
 nd leverage ITIL 4 practices for strategic success.\n 	Gain insight into h
 ow to strategically position organisations against digital disruptors to r
 emain relevant in the market. Learn to assess digital readiness\, leverage
  technology to enhance operational performance and increase customer satis
 faction.\n 	Acquire the skills needed to identify\, evaluate\, and manage 
 risks and opportunities inherent in operating in volatile\, uncertain\, co
 mplex\, and ambiguous (VUCA) environments. Understand the nuances of manag
 ing risks in a digital business model and develop strategies to mitigate p
 otential threats.\n 	Explore innovative approaches to service delivery in 
 the digital era. Learn to adapt service delivery models to meet customers'
  evolving needs and leverage digital technologies to enhance efficiency an
 d effectiveness.\n\n&nbsp\;\n\nE-Learning\n\nInteractive\, Self-paced\, De
 vice-friendly\, 8-10 hour content\, Mobile-optimized\, Case studies\, Prac
 tical exercises\n\n 	Make the best of e-learning through concise\, easily 
 digestible sessions. Perfect for busy schedules\, these bite-sized modules
  make learning both manageable and enjoyable.\n 	Dive into an interactive 
 environment filled with multimedia elements\, quizzes and activities that 
 make your journey through the course engaging and enriching.\n 	Take advan
 tage of closed captioning and adjustable player settings. This personalise
 d approach ensures a comfortable and effective learning experience for eve
 ryone.\n 	Access the official ITIL 4 glossary anytime\, as it's embedded i
 nto the course. This handy resource is a valuable tool for quick reference
  that helps deepen your understanding of ITIL 4 terminology.\n\n\nTraining
  materials\n\n 	Peoplecert official ITIL4® Digital &amp\; IT Strategy Lea
 rner Workbook (including Syllabus\, Quick Reference Guide and two Sample E
 xams)\n 	Peoplecert ITIL4® Digital &amp\; IT Strategy e-Learning training
  environment\n 	Peoplecert official ITIL4® Digital &amp\; IT Strategy Boo
 k (Digital Version)\n 	IITIL4® Digital &amp\; IT Strategy Exam Voucher to
  take the exam within 12 months after completing the course\n\n\nAudience\
 n\nPopular among professionals who have advanced to roles such as: IT Spec
 ialist: Changes\, IT Specialist: Operations\, IT manager: Development\, IT
  manager: Operations\, IT Leader\, IT Service Manager.\n\n&nbsp\;\n\nRequi
 rements\n\nYou must have passed the ITIL4® Foundation exam before taking 
 the ITIL4® Digital &amp\; IT Strategy exam.
ATTACH;FMTTYPE=image/jpeg:https://i0.wp.com/academy.polychorcapital.com/wp
 -content/uploads/2025/12/ITIL-4-Leader-Digital-IT-Strategy1200x1200.png?fi
 t=1200%2C1200&ssl=1
CATEGORIES:ITIL4 Leader e-Learning
END:VEVENT
BEGIN:VTIMEZONE
TZID:Europe/Bucharest
X-LIC-LOCATION:Europe/Bucharest
BEGIN:DAYLIGHT
DTSTART:20260329T040000
TZOFFSETFROM:+0200
TZOFFSETTO:+0300
TZNAME:EEST
END:DAYLIGHT
END:VTIMEZONE
END:VCALENDAR