BEGIN:VCALENDAR
VERSION:2.0
PRODID:-//wp-events-plugin.com//7.2.3.1//EN
BEGIN:VEVENT
UID:537@academy.polychorcapital.com
DTSTART;TZID=Europe/Bucharest:20261005T090000
DTEND;TZID=Europe/Bucharest:20261007T163000
DTSTAMP:20251231T124047Z
URL:https://academy.polychorcapital.com/events/itil4-plan-implement-and-co
 ntrol-2026-01-05-2026-02-02-2026-03-02-2026-04-06-2026-05-04-2026-06-01-20
 26-07-06-2026-08-03-2026-09-07-2026-10-05/
SUMMARY:ITIL4® Plan\, Implement and Control
DESCRIPTION:&nbsp\;\n\nAbout the course\n\nThe e-Learning ITIL® 4 Speciali
 st: Plan\, Implement and Control (PIC) is a "Practice Manager" module tha
 t combines five core ITIL management practices into a single certification
 . It focuses on the governance and technical coordination required to tran
 sition services from planning to live operations.\n\n&nbsp\;\n\nWhat will 
 you learn\n\n 	Understand the purpose and key concepts of the Plan\, Imple
 ment\, and Control practices\, highlighting their importance in establishi
 ng\, executing\, and governing IT service strategies effectively.\n 	Learn
  about practice success factors (PSF) and key practice metrics\, essential
  for evaluating the effectiveness and maturity of the Plan\, Implement\, a
 nd Control practices in achieving strategic objectives.\n 	Explore process
 es\, including key activities\, and learn how to integrate them into your 
 organisation's value stream to ensure coherent planning\, effective implem
 entation\, and robust control mechanisms.\n 	Focus on key roles within the
  Plan\, Implement\, and Control practices\, and understand how to position
  the practices effectively within your organisation. Develop the necessary
  competencies for planning\, executing\, and controlling IT service strate
 gies.\n 	See how Information and Technology can support and enable the Pla
 n\, Implement\, and Control practices to deliver improvements\, providing 
 tools and systems for effective planning\, implementation\, and control.\n
  	Explore the role of partners and suppliers in the Plan\, Implement\, and
  Control practices\, understanding how to collaborate effectively to enhan
 ce strategy execution and governance.\n 	Discover how the capability crite
 ria support the practices' capability development\, ensuring alignment wit
 h industry best practices and organisational requirements for effective pl
 anning\, implementation\, and control.\n 	Discover how the capability crit
 eria support the practices' capability development\, ensuring alignment wi
 th industry best practices and organisational requirements for effective p
 lanning\, implementation\, and control.\n\n&nbsp\;\n\nE-Learning\n\nIntera
 ctive\, Self-paced\, Device-friendly\, 12 hour content\, Mobile-optimized\
 n\n 	Make the best of e-learning through concise\, easily digestible sessi
 ons. Perfect for busy schedules\, these bite-sized modules make learning b
 oth manageable and enjoyable.\n 	Dive into an interactive environment fill
 ed with multimedia elements\, quizzes and activities that make your journe
 y through the course engaging and enriching.\n 	Take charge of your educat
 ion. This self-directed learning format lets you choose your focus areas\,
  empowering you to tailor your educational journey to your personal goals.
 \n 	Take advantage of closed captioning and adjustable player settings to 
 pace yourself and enjoy an effective learning experience.\n 	Stay on top o
 f your learning with real-time progress tracking. Knowledge checks help de
 epen your understanding and ensure that you grasp the material as you prog
 ress.\n 	Each module includes a detailed learning checklist that takes you
  through the course structure and ensures you cover all key topics.\n 	Acc
 ess the official ITIL 4 glossary anytime\, as it has been embedded into th
 e course. This handy resource is a valuable tool for quick reference and t
 o deepen your understanding of ITIL 4 terminology.\n 	Delivered via the Ca
 nvas Learning Management System\, this course offers a user-friendly learn
 ing experience.\n\n\nTraining materials\n\n 	Peoplecert official ITIL4® P
 lan\, Implement and Control Learner Workbook (including Syllabus\, Quick R
 eference Guide and two Sample Exams)\n 	Peoplecert ITIL4® Plan\, Implemen
 t and Control e-Learning training environment\n 	Peoplecert official ITIL4
 ® Plan\, Implement and Control Book (Digital Version)\n 	ITIL4® Plan\, I
 mplement and Control Exam Voucher to take the exam within 12 months after 
 completing the course\n\n\nAudience\n\nPopular among professionals who hav
 e advanced to roles such as: IT Specialist: IT Specialist: Operations\, IT
  Manager: Operations\, IT Service Manager.\n\n&nbsp\;\n\nRequirements\n\nY
 ou must have passed the ITIL4® Foundation exam before taking the ITIL4® 
 Plan\, Implement and Control exam.
ATTACH;FMTTYPE=image/jpeg:https://i0.wp.com/academy.polychorcapital.com/wp
 -content/uploads/2025/12/ITIL-4-Specialist-Plan-Implement-Control1200x1200
 .png?fit=1200%2C1200&ssl=1
CATEGORIES:ITIL4 Specialist e-Learning
END:VEVENT
BEGIN:VTIMEZONE
TZID:Europe/Bucharest
X-LIC-LOCATION:Europe/Bucharest
BEGIN:DAYLIGHT
DTSTART:20260329T040000
TZOFFSETFROM:+0200
TZOFFSETTO:+0300
TZNAME:EEST
END:DAYLIGHT
END:VTIMEZONE
END:VCALENDAR