BEGIN:VCALENDAR
VERSION:2.0
PRODID:-//wp-events-plugin.com//7.2.3.1//EN
BEGIN:VEVENT
UID:354@academy.polychorcapital.com
DTSTART;TZID=Europe/Bucharest:20260907T090000
DTEND;TZID=Europe/Bucharest:20260909T163000
DTSTAMP:20251231T102051Z
URL:https://academy.polychorcapital.com/events/itil4-release-management-20
 26-09-07/
SUMMARY:ITIL4® Release Management
DESCRIPTION:&nbsp\;\n\nAbout the course\n\nThis e-Learning course provides 
 a comprehensive understanding of Release Management\, covering essential t
 opics such as the ITIL® 4 qualification scheme\, roles and responsibiliti
 es\, and key metrics for success. Participants will learn to implement eff
 ective value streams and processes\, improve their organization's capabili
 ties through self-assessment techniques\, and leverage automation for opti
 mized information exchange. By the end of the course\, you'll be equipped 
 with practical strategies for Release Management excellence\, ready to dri
 ve success in your IT organization. Enroll today to elevate your service d
 elivery!\n\nWhat will you learn\n\n 	Understand the purpose and key concep
 ts of Release Management\, elucidating its significance in planning\, sche
 duling\, and controlling the build\, test\, and deployment of releases to 
 ensure they deliver the expected outcomes.\n 	Learn about practice success
  factors (PSF) and key practice metrics\, essential for evaluating the eff
 ectiveness and efficiency of Release Management in achieving timely and su
 ccessful releases.\n 	Explore Release Management processes\, including key
  activities\, and learn how to integrate them into your organisation's val
 ue stream to ensure seamless and coordinated release deployments.\n 	Focus
  on key roles within Release Management\, and understand how to position t
 he practice effectively within your organisation. Develop the necessary co
 mpetencies for managing and overseeing release activities.\n 	See how Info
 rmation and Technology can support and enable Release Management to delive
 r improvements\, providing tools and systems for effective planning\, trac
 king\, and deployment of releases.\n 	Explore the role of partners and sup
 pliers in Release Management\, understanding how to collaborate effectivel
 y to enhance release processes and ensure successful delivery.\n 	Discover
  how the capability criteria support the practice's capability development
 \, ensuring alignment with industry best practices and organisational requ
 irements for effective Release Management.\n 	Learn strategies for succeed
 ing with Release Management and understand how it is supported by the ITIL
  guiding principles\, ensuring the establishment of robust release practic
 es to achieve business goals and deliver value.\n\n&nbsp\;\n\nE-Learning\n
 \nInteractive\, Self-paced\, Device-friendly\, 2-3-hour content\, Mobile-o
 ptimized\, Practical exercises\n\n 	Experience e-learning through concise\
 , easily digestible sessions. Perfect for busy schedules\, these bite-size
 d modules make learning both manageable and enjoyable.\n 	Dive into an int
 eractive environment filled with multimedia elements\, quizzes and activit
 ies that make your journey through the course thoroughly engaging and enri
 ching.\n 	Take charge of your education. This self-directed learning forma
 t lets you choose your focus areas\, enabling you to tailor your education
 al journey to your personal goals.\n 	Take advantage of closed captioning 
 and adjustable player settings. This personalised approach ensures a comfo
 rtable and effective learning experience for everyone.\n 	Stay on top of y
 our learning with real-time progress tracking. Knowledge checks reinforce 
 your understanding\, ensuring a solid grasp of the material as you progres
 s.\n 	Each module includes a detailed learning checklist\, guiding you thr
 ough the course structure and ensuring you cover all key topics.\n 	Delive
 red via the Canvas Learning Management System\, this course offers a user-
 friendly learning experience.\n 	Access the Official ITIL 4 glossary anyti
 me\, as it has been included into the course. This handy resource is a val
 uable tool for quick reference and to deepen your knowledge of ITIL 4 term
 inology.\n\n\nTraining materials\n\n 	Peoplecert official ITIL4® Release 
 Management Learner Workbook (including Syllabus\, Quick Reference Guide an
 d two Sample Exams)\n 	Peoplecert ITIL4 Release Management online training
  environment\n 	Peoplecert official ITIL4 Release Management Book (Digital
  Version)\n 	ITIL4® Service Release Management Exam Voucher to take the e
 xam within 12 months after completing the course\n\n\nAudience\n\nSuitable
  for all IT professionals. Popular among professionals who have advanced t
 o roles such as: IT Specialist: Development\, IT Specialist: Changes\, IT 
 Manager: Operations\, IT Service Manager.\n\nRequirements\n\nYou must have
  passed the ITIL4® Foundation exam before taking the ITIL® Release Manag
 ement exam.
ATTACH;FMTTYPE=image/jpeg:https://i0.wp.com/academy.polychorcapital.com/wp
 -content/uploads/2025/12/ITIL-4-Practitioner-Release-Management-1200x1200-
 1.png?fit=1200%2C1200&ssl=1
CATEGORIES:ITIL4 Practitioner e-Learning
END:VEVENT
BEGIN:VTIMEZONE
TZID:Europe/Bucharest
X-LIC-LOCATION:Europe/Bucharest
BEGIN:DAYLIGHT
DTSTART:20260329T040000
TZOFFSETFROM:+0200
TZOFFSETTO:+0300
TZNAME:EEST
END:DAYLIGHT
END:VTIMEZONE
END:VCALENDAR