BEGIN:VCALENDAR
VERSION:2.0
PRODID:-//wp-events-plugin.com//7.2.3.1//EN
BEGIN:VEVENT
UID:406@academy.polychorcapital.com
DTSTART;TZID=Europe/Bucharest:20260907T090000
DTEND;TZID=Europe/Bucharest:20260909T163000
DTSTAMP:20251230T181212Z
URL:https://academy.polychorcapital.com/events/itil4-supplier-management-2
 026-01-05-2026-02-02-2026-03-02-2026-04-06-2026-05-04-2026-06-01-2026-07-0
 6-2026-08-03-2026-09-07/
SUMMARY:ITIL4® Supplier Management
DESCRIPTION:&nbsp\;\n\nAbout the course\n\nThis e-Learning course provides 
 a comprehensive understanding of Supplier Management\, covering essential 
 topics such as the ITIL® 4 qualification scheme\, roles and responsibilit
 ies\, and key metrics for success. Participants will learn to implement ef
 fective value streams and processes\, improve their organization's capabil
 ities through self-assessment techniques\, and leverage automation for opt
 imized information exchange. By the end of the course\, you'll be equipped
  with practical strategies for Supplier Management excellence\, ready to d
 rive success in your IT organization. Enroll today to elevate your service
  delivery!\n\nWhat will you learn\n\n 	Understand the purpose and key conc
 epts of the Supplier Management Practice\, elucidating its importance in m
 anaging supplier relationships and ensuring value delivery from third-part
 y services.\n 	Learn about practice success factors (PSF) and key metrics\
 , essential for evaluating the effectiveness and efficiency of Supplier Ma
 nagement in achieving optimal supplier performance and alignment with busi
 ness goals.\n 	Explore Supplier Management processes\, including key activ
 ities\, and learn how to integrate them into your organisation's value str
 eam to ensure seamless and effective supplier interactions.\n 	Focus on th
 e key roles of the Supplier Management practice and understand how to posi
 tion the practice effectively within your organisation. Develop the necess
 ary competencies for managing supplier relationships and performance.\n 	E
 xplore how Information and Technology can support and enable the Supplier 
 Management practice to deliver improvements\, providing tools and systems 
 for efficient supplier tracking\, evaluation\, and collaboration.\n 	Focus
  on the role of partners and suppliers in the Supplier Management practice
 \, understanding how to cultivate and maintain productive partnerships to 
 enhance service delivery and business outcomes.\n 	Discover how the capabi
 lity criteria support the practice's capability development\, ensuring ali
 gnment with industry best practices and organisational requirements for ef
 fective Supplier Management.\n 	Learn strategies for succeeding with the S
 upplier Management practice and understand how it is supported by the ITIL
  guiding principles\, ensuring the establishment of robust supplier manage
 ment practices to achieve business goals and deliver value.\n\n&nbsp\;\n\n
 E-Learning\n\nInteractive\, Self-paced\, Device-friendly\, 2-3-hour conten
 t\, Mobile-optimized\, Practical exercises\n\n 	Experience e-learning thro
 ugh concise\, easily digestible sessions. Perfect for busy schedules\, the
 se bite-sized modules make learning both manageable and enjoyable.\n 	Dive
  into an interactive environment filled with multimedia elements\, quizzes
  and activities that make your journey through the course thoroughly engag
 ing and enriching.\n 	Take charge of your education. This self-directed le
 arning format lets you choose your focus areas\, enabling you to tailor yo
 ur educational journey to your personal goals.\n 	Take advantage of closed
  captioning and adjustable player settings. This personalised approach ens
 ures a comfortable and effective learning experience for everyone.\n 	Stay
  on top of your learning with real-time progress tracking. Knowledge check
 s reinforce your understanding\, ensuring a solid grasp of the material as
  you progress.\n 	Each module includes a detailed learning checklist\, gui
 ding you through the course structure and ensuring you cover all key topic
 s.\n 	Delivered via the Canvas Learning Management System\, this course of
 fers a user-friendly learning experience.\n 	Access the Official ITIL 4 gl
 ossary anytime\, as it has been included into the course. This handy resou
 rce is a valuable tool for quick reference and to deepen your knowledge of
  ITIL 4 terminology.\n\n\nTraining materials\n\n 	Peoplecert official ITIL
 4® Supplier Management Learner Workbook (including Syllabus\, Quick Refer
 ence Guide and two Sample Exams)\n 	Peoplecert ITIL4 Supplier Management o
 nline training environment\n 	Peoplecert official ITIL4 Supplier Managemen
 t Book (Digital Version)\n 	ITIL4® Supplier Management Exam Voucher to ta
 ke the exam within 12 months after completing the course\n\n\nAudience\n\n
 Suitable for all IT professionals. Popular among professionals who have ad
 vanced to roles such as: Service Integration Manager\, IT Service Manager\
 , IT Procurement Manager\, Enterprise Architect.\n\nRequirements\n\nYou mu
 st have passed the ITIL4® Foundation exam before taking the ITIL® Suppli
 er Management.
ATTACH;FMTTYPE=image/jpeg:https://i0.wp.com/academy.polychorcapital.com/wp
 -content/uploads/2025/12/ITIL-4-Practitioner-Supplier-Management-1200x1200
 -1.png?fit=1200%2C1200&ssl=1
CATEGORIES:ITIL4 Practitioner e-Learning
END:VEVENT
BEGIN:VTIMEZONE
TZID:Europe/Bucharest
X-LIC-LOCATION:Europe/Bucharest
BEGIN:DAYLIGHT
DTSTART:20260329T040000
TZOFFSETFROM:+0200
TZOFFSETTO:+0300
TZNAME:EEST
END:DAYLIGHT
END:VTIMEZONE
END:VCALENDAR