BEGIN:VCALENDAR
VERSION:2.0
PRODID:-//wp-events-plugin.com//7.2.3.1//EN
BEGIN:VEVENT
UID:498@academy.polychorcapital.com
DTSTART;TZID=Europe/Bucharest:20261005T090000
DTEND;TZID=Europe/Bucharest:20261007T163000
DTSTAMP:20251231T140631Z
URL:https://academy.polychorcapital.com/events/mor-4-practitioner-2026-10-
 05/
SUMMARY:MoR® 4 Practitioner
DESCRIPTION:&nbsp\;\n\nAbout the course\n\nThe e-Learning M_o_R® 4 (Manage
 ment of Risk) Practitioner course is the advanced level of the Management 
 of Risk certification. Updated for 2025\, M_o_R 4 aligns risk management w
 ith modern business needs\, focusing on how risk creates or protects value
  within an organization.\n\n&nbsp\;\n\nWhat will you learn\n\n 	Learn the
  fundamentals of risk management\, the challenges to effective practice\,
  and how it supports corporate governance and enterprise risk management.\
 n 	Understand how the M_o_R 4 integrated framework guides risk management 
 to create and protect value across the organization.\n 	Learn about the gu
 iding obligations that are continually required to create and protect valu
 e from risk management.\n 	Assess risks through the lens of the 6 distinct
  M_o_R perspectives to enable decision makers to create and protect organi
 sational value.\n 	Understand how people and culture influence the effecti
 veness of risk management across the organisation.\n 	Learn the 8 processe
 s\, designed to ensure that the activities for effective application are d
 efined\, the relationships are clear and the techniques and supporting doc
 uments are understood.\n 	Learn how to identify and assess the most critic
 al risks\, helping decision-makers understand how individual risks collect
 ively impact the likelihood of achieving organisational objectives.\n 	Lea
 rn how to apply specific processes to enhance the likelihood of achieving 
 objectives as well as provide decision-makers with abilty to determine how
  much contingency to allocate.\n 	Learn how to apply processes that provid
 e timely and insightful updates on risks to decision-makers and enable sta
 keholders to evaluate the effectiveness of risk management strategies.\n\n
 \nE-learning\n\nInteractive\, Self-paced\, Device-friendly\, 10-12-hour co
 ntent\, Mobile-optimized\n\n\n 	Make the best of our eLearning option thro
 ugh concise\, easily digestible sessions. Perfect for busy schedules\, the
 se bite-sized modules make learning both manageable and enjoyable.\n 	Dive
  into an interactive environment filled with multimedia elements\, quizzes
  and activities that make your journey through the course engaging and enr
 iching.\n 	Take charge of your education. This self-directed learning form
 at lets you choose your focus areas\, enabling you to tailor your educatio
 nal journey to your personal goals.\n 	Take advantage of closed captioning
  and adjustable player settings to pace yourself and enjoy an effective le
 arning experience.\n 	Stay on top of your learning with real-time progress
  tracking. Knowledge checks help deepen your understanding and ensure that
  you grasp the material as you progress.\n 	Each module includes a detaile
 d learning checklist that takes you through the course structure and ensur
 es you cover all key topics.\n 	Access the Official PRINCE2 glossary anyti
 me\, as it has been included into the course. This handy resource is a val
 uable tool for quick reference and to deepen your knowledge of PRINCE2 ter
 minology.\n 	Delivered via the Canvas Learning Management System\, this co
 urse offers a user-friendly learning experience.\n\n\nTraining materials\n
 \n 	Peoplecert MoR® 4 Practitioner Learner Workbook (including Syllabus\,
  Quick Reference Guide and two Sample Exams)\n 	Peoplecert MoR® 4 Practit
 ioner e-Learning environment\n 	Peoplecert MoR® 4 Practitioner official B
 ook (Digital Version)\n 	MoR® 4 Practitioner Exam Voucher to take the exa
 m within 12 months after completing the course\n\n\nAudience\n\nPopular am
 ong professionals who have advanced to roles such as: Risk Professionals\,
  Project Managers\,  Programme Managers\, PMO Managers\, PMO Support\, Ma
 nagement Consultants\, Product Managers\, Operations Managers\, Change Pro
 fessionals\, HR Professionals.\n\n&nbsp\;\n\nRequirements\n\nThere are no 
 pre-requisites to take the exam.\n\n&nbsp\;
ATTACH;FMTTYPE=image/jpeg:https://i0.wp.com/academy.polychorcapital.com/wp
 -content/uploads/2025/12/PRINCE2-Risk-Management-MoR-4-Practitioner-1200x1
 200-1.png?fit=1200%2C1200&ssl=1
CATEGORIES:MoR e-Learning
END:VEVENT
BEGIN:VTIMEZONE
TZID:Europe/Bucharest
X-LIC-LOCATION:Europe/Bucharest
BEGIN:DAYLIGHT
DTSTART:20260329T040000
TZOFFSETFROM:+0200
TZOFFSETTO:+0300
TZNAME:EEST
END:DAYLIGHT
END:VTIMEZONE
END:VCALENDAR