BEGIN:VCALENDAR
VERSION:2.0
PRODID:-//wp-events-plugin.com//7.2.3.1//EN
BEGIN:VEVENT
UID:434@academy.polychorcapital.com
DTSTART;TZID=Europe/Bucharest:20261102T090000
DTEND;TZID=Europe/Bucharest:20261104T163000
DTSTAMP:20251231T101425Z
URL:https://academy.polychorcapital.com/events/msp-foundation-5th-edition-
 2026-11-02/
SUMMARY:MSP® Foundation\, 5th Edition
DESCRIPTION:&nbsp\;\n\nAbout the course\n\nThe e-Learning MSP Foundation co
 urse teaches the fundamentals of the Managing Successful Programmes (MSP) 
 framework\, covering its core principles\, governance themes\, and process
 es to manage complex change initiatives and deliver organizational value. 
 It's an introductory certification with no formal prerequisites\, ideal fo
 r new program managers\, team members\, and stakeholders\, involving a mul
 tiple-choice exam to test understanding of MSP concepts. Passing the Found
 ation level is required before taking the advanced Practitioner level\, wh
 ich focuses on applying the framework in real-world settings.\n\nWhat will
  you learn\n\n 	The MSP Foundation course teaches the fundamentals of the
  Managing Successful Programmes (MSP) framework\, covering its core princ
 iples\, governance themes\, and processes to manage complex change initiat
 ives and deliver organizational value. It's an introductory certification 
 with no formal prerequisites\, ideal for new program managers\, team membe
 rs\, and stakeholders\, involving a multiple-choice exam to test understan
 ding of MSP concepts. Passing the Foundation level is required before taki
 ng the advanced Practitioner level\, which focuses on applying the framewo
 rk in real-world settings.\n 	Gain knowledge of the programme lifecycle\, 
 from identifying and defining the programme\, through managing delivery ph
 ases\, realizing benefits and closing the programme.\n 	Understand how gov
 ernance and control mechanisms are applied to ensure the programme stays o
 n track\, aligned to organizational objectives\, and delivers expected ben
 efits.\n 	Recognize the importance of defining\, tracking and realizing th
 e benefits a programme is designed to deliver for the organization.\n 	Lea
 rn how to communicate and collaborate effectively within the programme tea
 m and with stakeholders to ensure transparency\, alignment and support for
  programme objectives.\n 	Familiarize yourself with the roles and responsi
 bilities of people in programme management to support efficient and effect
 ive delivery.\n 	Acquire knowledge of how to identify\, assess and manage 
 risks and issues that could impact the programme’s success.\n 	Understan
 d how to ensure programme deliverables meet predefined quality standards t
 hrough quality assurance and control processes.\n 	Learn the importance of
  tailoring the MSP 5th edition method to suit the specific needs and conte
 xt of your programme and organization.\n\n\nE-learning\n\nInteractive\, Se
 lf-paced\, Device-friendly\, 10-12-hour content\, Mobile-optimized\n\n\n 	
 Make the best of our eLearning option through concise\, easily digestible 
 sessions. Perfect for busy schedules\, these bite-sized modules make learn
 ing both manageable and enjoyable.\n 	Dive into an interactive environment
  filled with multimedia elements\, quizzes and activities that make your j
 ourney through the course engaging and enriching.\n 	Take charge of your e
 ducation. This self-directed learning format lets you choose your focus ar
 eas\, enabling you to tailor your educational journey to your personal goa
 ls.\n 	Take advantage of closed captioning and adjustable player settings 
 to pace yourself and enjoy an effective learning experience.\n 	Stay on to
 p of your learning with real-time progress tracking. Knowledge checks help
  deepen your understanding and ensure that you grasp the material as you p
 rogress.\n 	Each module includes a detailed learning checklist that takes 
 you through the course structure and ensures you cover all key topics.\n 	
 Access the official MSP glossary anytime\, embedded within the course. Thi
 s handy resource is a valuable tool for quick reference and helps deepen y
 our understanding of MSP terminology.\n 	Delivered via the Canvas Learning
  Management System\, this course offers a user-friendly learning experienc
 e.\n\n\nTraining materials\n\n 	Peoplecert MSP® Foundation\, 5th Edition 
 Learner Workbook (including Syllabus\, Quick Reference Guide and two Sampl
 e Exams)\n 	Peoplecert MSP® Foundation\, 5th Edition e-Learning environme
 nt\n 	Peoplecert MSP® Foundation\, 5th Edition official Book (Digital Ver
 sion)\n 	MSP® Foundation\, 5th Edition Exam Voucher to take the exam with
 in 12 months after completing the course\n\n\nAudience\n\nThis course is s
 uitable for progamme managers\, members of programme teams\, individuals w
 ho have a supporting role in programmes or are responsible for quality man
 agement\, as well as anyone who in some way participates or is related to 
 the implementation of programmes. Popular among professionals who have adv
 anced to roles such as: Project Managers\, Senior Project Managers\, Progr
 amme Managers\, Portfolio Managers\, Business Change Managers\, Benefits M
 anagers\, Project Delivery team members\, Senior Responsible Owners\, Busi
 ness Analysts\, Business Analysts.\n\nRequirements\n\nThere are no pre-req
 uisites to take the MSP® Foundation\, 5th Edition exam.\n\n&nbsp\;
ATTACH;FMTTYPE=image/jpeg:https://i0.wp.com/academy.polychorcapital.com/wp
 -content/uploads/2025/12/PRINCE2-Designation-Programme-Manager-1200x1200-1
 .png?fit=1200%2C1200&ssl=1
CATEGORIES:MSP e-Learning
END:VEVENT
BEGIN:VTIMEZONE
TZID:Europe/Bucharest
X-LIC-LOCATION:Europe/Bucharest
BEGIN:STANDARD
DTSTART:20261025T030000
TZOFFSETFROM:+0300
TZOFFSETTO:+0200
TZNAME:EET
END:STANDARD
END:VTIMEZONE
END:VCALENDAR