BEGIN:VCALENDAR
VERSION:2.0
PRODID:-//wp-events-plugin.com//7.2.3.1//EN
BEGIN:VEVENT
UID:443@academy.polychorcapital.com
DTSTART;TZID=Europe/Bucharest:20260706T090000
DTEND;TZID=Europe/Bucharest:20260708T163000
DTSTAMP:20251231T101609Z
URL:https://academy.polychorcapital.com/events/msp-practitioner-5th-editio
 n-2026-07-06/
SUMMARY:MSP® Practitioner\, 5th Edition
DESCRIPTION:&nbsp\;\n\nAbout the course\n\nThe e-Learning MSP® (Managing S
 uccessful Programmes) Practitioner course is an advanced certification for
  professionals managing complex transformational change. It builds upon th
 e theoretical knowledge of the Foundation level and focuses on applying an
 d tailoring the MSP framework to real-world scenarios.\n\nWhat will you le
 arn\n\n 	The MSP Foundation course teaches the fundamentals of the Manag
 ing Successful Programmes (MSP) framework\, covering its core principles\,
  governance themes\, and processes to manage complex change initiatives an
 d deliver organizational value. It's an introductory certification with no
  formal prerequisites\, ideal for new program managers\, team members\, an
 d stakeholders\, involving a multiple-choice exam to test understanding of
  MSP concepts. Passing the Foundation level is required before taking the 
 advanced Practitioner level\, which focuses on applying the framework in r
 eal-world settings.\n 	Gain knowledge of the programme lifecycle\, from id
 entifying and defining the programme\, through managing delivery phases\, 
 realizing benefits and closing the programme.\n 	Understand how governance
  and control mechanisms are applied to ensure the programme stays on track
 \, aligned to organizational objectives\, and delivers expected benefits.\
 n 	Recognize the importance of defining\, tracking and realizing the benef
 its a programme is designed to deliver for the organization.\n 	Learn how 
 to communicate and collaborate effectively within the programme team and w
 ith stakeholders to ensure transparency\, alignment and support for progra
 mme objectives.\n 	Familiarize yourself with the roles and responsibilitie
 s of people in programme management to support efficient and effective del
 ivery.\n 	Acquire knowledge of how to identify\, assess and manage risks a
 nd issues that could impact the programme’s success.\n 	Understand how t
 o ensure programme deliverables meet predefined quality standards through 
 quality assurance and control processes.\n 	Learn the importance of tailor
 ing the MSP 5th edition method to suit the specific needs and context of y
 our programme and organization.\n\n\nE-learning\n\nInteractive\, Self-pace
 d\, Device-friendly\, 10-12-hour content\, Mobile-optimized\n\n\n 	Develop
  expertise in programme management best practices\, mastering principles\,
  themes and processes to help organizations manage programmes effectively.
 \n 	Learn how to effectively manage diverse stakeholders\, including execu
 tives\, sponsors\, team members\, suppliers and customers\, with advanced 
 communication and relationship-building skills.\n 	Gain an in-depth unders
 tanding of programme governance\, including setting up and maintaining gov
 ernance structures\, accountability mechanisms and assurance processes to 
 deliver programme success.\n 	Master techniques for identifying\, defining
 \, tracking and realizing the full range of benefits a programme is intend
 ed to deliver\, with a focus on benefits measurement and realization.\n 	L
 earn how to allocate and optimize resources (human\, financial and materia
 l) effectively\, even in complex and changing environments\, to achieve pr
 ogramme objectives.\n 	Develop expertise in addressing complex programme m
 anagement challenges and resolving issues efficiently and effectively.\n 	
 Acquire advanced knowledge of identifying\, assessing and managing risks a
 nd issues that can impact a programme's success.\n 	Understand quality ass
 urance and control processes to ensure that programme deliverables and out
 comes meet or exceed defined quality standards.\n 	Learn how to tailor the
  MSP 5th edition method to suit the specific needs and context of your pro
 gramme and organization.\n\n\nTraining materials\n\n 	Peoplecert MSP® Pra
 ctitioner\, 5th Edition Learner Workbook (including Syllabus\, Quick Refer
 ence Guide and two Sample Exams)\n 	Peoplecert MSP® Practitioner\, 5th Ed
 ition e-Learning environment\n 	Peoplecert MSP® Practitioner\, 5th Editio
 n official Book (Digital Version)\n 	MSP® Practitioner\, 5th Edition Exam
  Voucher to take the exam within 12 months after completing the course\n\n
 \nAudience\n\nPopular among professionals who have advanced to roles such 
 as: Senior Project Managers\, Programme Managers\, Portfolio Managers\, Bu
 siness Change Managers\, Benefits Managers\, Project delivery team members
 \, Product Owners\, Business Analysts\, Consultants.\n\nRequirements\n\nYo
 u must have passed the MSP® Foundation\, 5th Edition exam before you can 
 take the MSP® Practitioner\, 5th Edition exam\n\n&nbsp\;
ATTACH;FMTTYPE=image/jpeg:https://i0.wp.com/academy.polychorcapital.com/wp
 -content/uploads/2025/12/PRINCE2-Programme-Management-MSP-5th-Practitioner
 -1200x1200-1.png?fit=1200%2C1200&ssl=1
CATEGORIES:MSP e-Learning
END:VEVENT
BEGIN:VTIMEZONE
TZID:Europe/Bucharest
X-LIC-LOCATION:Europe/Bucharest
BEGIN:DAYLIGHT
DTSTART:20260329T040000
TZOFFSETFROM:+0200
TZOFFSETTO:+0300
TZNAME:EEST
END:DAYLIGHT
END:VTIMEZONE
END:VCALENDAR