BEGIN:VCALENDAR
VERSION:2.0
PRODID:-//wp-events-plugin.com//7.2.3.1//EN
BEGIN:VEVENT
UID:93@academy.polychorcapital.com
DTSTART;TZID=Europe/Bucharest:20260615T090000
DTEND;TZID=Europe/Bucharest:20260617T163000
DTSTAMP:20251231T103401Z
URL:https://academy.polychorcapital.com/events/prince2-7-foundation-17/
SUMMARY:PRINCE2® 7 Foundation
DESCRIPTION:The virtual PRINCE2® 7 Foundation course is aimed at assessing
  whether the candidate would be able to act as an informed member of a pro
 ject management team on a project using the PRINCE2® method in an organiz
 ational environment that supports PRINCE2®.
ATTACH;FMTTYPE=image/jpeg:https://i0.wp.com/academy.polychorcapital.com/wp
 -content/uploads/2025/12/PRINCE2-Project-Management-PRINCE2-7-Foundation-1
 200x1200-1.png?fit=1200%2C1200&ssl=1
CATEGORIES:PRINCE2 Training
END:VEVENT
BEGIN:VTIMEZONE
TZID:Europe/Bucharest
X-LIC-LOCATION:Europe/Bucharest
BEGIN:DAYLIGHT
DTSTART:20260329T040000
TZOFFSETFROM:+0200
TZOFFSETTO:+0300
TZNAME:EEST
END:DAYLIGHT
END:VTIMEZONE
END:VCALENDAR