BEGIN:VCALENDAR
VERSION:2.0
PRODID:-//wp-events-plugin.com//7.2.3.1//EN
BEGIN:VEVENT
UID:211@academy.polychorcapital.com
DTSTART;TZID=Europe/Bucharest:20261207T090000
DTEND;TZID=Europe/Bucharest:20261209T163000
DTSTAMP:20251231T102022Z
URL:https://academy.polychorcapital.com/events/prince2-7-foundation-2026-1
 2-07/
SUMMARY:PRINCE2® 7 Foundation
DESCRIPTION:&nbsp\;\n\nAbout the course\n\nThe e-Learning PRINCE2® Foundat
 ion (7th Edition) course and exam is aimed at assessing whether the candid
 ate would be able to act as an informed member of a project management tea
 m on a project using the PRINCE2® method in an organizational environment
  that supports PRINCE2®. In this sense\, the candidate must be able to de
 monstrate an understanding of the principles and terminology of the method
 .\n\nA key element of the PRINCE2® Foundation course is the process model
 \, which will be demonstrated through a process map specially developed by
  the training organisation – PRINCE2® Trigger Map . You will learn w
 hat the model is\, how different project activities and project roles rela
 te to each other\, and how PRINCE2® deals with the exceptions that inevit
 ably arise in every project.\n\nDuring the course\, you will also learn ho
 w to create a project management organisation that is responsible for its 
 planning and execution. You will also learn how to define the various pro
 ject management roles to ensure that it is carried out in the most effecti
 ve and efficient manner. The ‘management by exception’ method will al
 so be introduced as key to project problem management.\n\nAfter the course
 \, you will have the opportunity to take the official PRINCE2® Foundation
  exam within 12 months after completing the course. If you later wish to s
 it the PRINCE2® Practitioner exam\, you will need to have passed the Foun
 dation exam.\n\nThe study materials are comprehensive and completely suffi
 cient for the successful passing of the exam. These include the official P
 eoplecert Training Materials including a Learner Workbbok with slides and 
 sample exams\, a Quick Reference Guide and an online version of the offici
 al Managing Successful Projects with PRINCE2 Manual.\n\nWhat will you lear
 n\n\n 	PRINCE2 Principles\n 	People: leading successful change\, teams and
  communication\n 	PRINCE2 Practices\n 	PRINCE2 Processes\n\n\nE-learning\n
 \n[embed]https://youtu.be/4yTfeSHmIYQ[/embed]\nInteractive\, Self-paced\, 
 Device-friendly\, 9-hour content\, Mobile-optimized\, Case studies\, Pract
 ical exercises\n\n\n\n 	Experience e-learning through concise\, easily dig
 estible sessions. Perfect for busy schedules\, these bite-sized modules ma
 ke learning both manageable and enjoyable.\n 	Dive into an interactive env
 ironment filled with multimedia elements\, quizzes and activities that mak
 e your journey through the course thoroughly engaging and enriching.\n 	Ta
 ke charge of your education. This self-directed learning format lets you c
 hoose your focus areas\, empowering you to tailor your educational journey
  to your personal goals.\n 	Take advantage of closed captioning and adjust
 able player settings. This personalised approach ensures a comfortable and
  effective learning experience for everyone.\n 	Stay on top of your learni
 ng with real-time progress tracking. Knowledge checks reinforce your under
 standing\, ensuring a solid grasp of the material as you progress.\n 	Bene
 fit from the use of a real world-based case study that guides you through 
 using PRINCE2 during the whole project\, from start to finish.\n 	Each mod
 ule includes a detailed learning checklist\, guiding you through the cours
 e structure and ensuring you cover all key topics.\n 	Access the official 
 PRINCE2 glossary anytime\, embedded within the course. This handy resource
  is a valuable tool for quick reference and helps deepen your understandin
 g of PRINCE2 terminology.\n 	Delivered via the Canvas Learning Management 
 System\, this course offers a user-friendly learning experience.\n\n\nTrai
 ning materials\n\n 	Peoplecert PRINCE2® Foundation Learner Workbook (incl
 uding Syllabus\, Quick Reference Guide and two Sample Exams)\n 	Peoplecert
  PRINCE2 Foundation e-Learning environment\n 	Peoplecert PRINCE2 official 
 Book (Digital Version)\n 	PRINCE2® Foundation Exam Voucher to take the ex
 am within 12 months after completing the course\n\n\nAudience\n\nThis cour
 se is suitable for project managers\, members of project teams\, individua
 ls who have a supporting role in projects or are responsible for quality m
 anagement\, as well as anyone who in some way participates or is related t
 o the implementation of projects.\n\n&nbsp\;\n\n&nbsp\;
ATTACH;FMTTYPE=image/jpeg:https://i0.wp.com/academy.polychorcapital.com/wp
 -content/uploads/2025/12/PRINCE2-Project-Management-PRINCE2-7-Foundation-1
 200x1200-1.png?fit=1200%2C1200&ssl=1
CATEGORIES:PRINCE2 e-Learning
END:VEVENT
BEGIN:VTIMEZONE
TZID:Europe/Bucharest
X-LIC-LOCATION:Europe/Bucharest
BEGIN:STANDARD
DTSTART:20261025T030000
TZOFFSETFROM:+0300
TZOFFSETTO:+0200
TZNAME:EET
END:STANDARD
END:VTIMEZONE
END:VCALENDAR