BEGIN:VCALENDAR
VERSION:2.0
PRODID:-//wp-events-plugin.com//7.2.3.1//EN
BEGIN:VEVENT
UID:99@academy.polychorcapital.com
DTSTART;TZID=Europe/Bucharest:20261119T090000
DTEND;TZID=Europe/Bucharest:20261120T163000
DTSTAMP:20251231T104320Z
URL:https://academy.polychorcapital.com/events/prince2-7-practitioner-10/
SUMMARY:PRINCE2® 7 Practitioner
DESCRIPTION:The virtual PRINCE2® 7 Practitioner course is aimed at assessi
 ng whether the candidate would be able to apply PRINCE2® to the implement
 ation and management of a non-complex project in a PRINCE2® supportive or
 ganizational environment. 
ATTACH;FMTTYPE=image/jpeg:https://i0.wp.com/academy.polychorcapital.com/wp
 -content/uploads/2025/12/PRINCE2-Project-Management-PRINCE2-7-Practitioner
 -1200x1200-1.png?fit=1200%2C1200&ssl=1
CATEGORIES:PRINCE2 Training
END:VEVENT
BEGIN:VTIMEZONE
TZID:Europe/Bucharest
X-LIC-LOCATION:Europe/Bucharest
BEGIN:STANDARD
DTSTART:20261025T030000
TZOFFSETFROM:+0300
TZOFFSETTO:+0200
TZNAME:EET
END:STANDARD
END:VTIMEZONE
END:VCALENDAR