BEGIN:VCALENDAR
VERSION:2.0
PRODID:-//wp-events-plugin.com//7.2.3.1//EN
BEGIN:VEVENT
UID:218@academy.polychorcapital.com
DTSTART;TZID=Europe/Bucharest:20260601T090000
DTEND;TZID=Europe/Bucharest:20260603T163000
DTSTAMP:20251231T102127Z
URL:https://academy.polychorcapital.com/events/prince2-7-practitioner-2026
 -06-01/
SUMMARY:PRINCE2® 7 Practitioner
DESCRIPTION:&nbsp\;\n\nAbout the course\n\nThe e-Learning PRINCE2® 7 Pract
 itioner course and exam are aimed at assessing whether the candidate would
  be able to apply PRINCE2® to the implementation and management of a non-
 complex project in a PRINCE2® supportive organizational environment. To t
 his end\, the candidate must demonstrate the competencies required for Fou
 ndation level and show that they can adapt and apply PRINCE2® to meet nee
 ds and solve problems in a given project scenario.\n\nWhat will you learn\
 n\n 	PRINCE2 Principles\n 	People: leading successful change\, teams and c
 ommunication\n 	PRINCE2 Practices\n 	PRINCE2 Processes\n\n&nbsp\;\n\nE-lea
 rning\n\nInteractive\, Self-paced\, Device-friendly\, 8-hour content\, Mob
 ile-optimized\, Case studies\, Practical exercises\n\n\n\n 	Experience e-l
 earning through concise\, easily digestible sessions. Perfect for busy sch
 edules\, these bite-sized modules make learning both manageable and enjoya
 ble.\n 	Dive into an interactive environment filled with multimedia elemen
 ts\, quizzes and activities that make your journey through the course thor
 oughly engaging and enriching.\n 	Take charge of your education. This self
 -directed learning format lets you choose your focus areas\, empowering yo
 u to tailor your educational journey to your personal goals.\n 	Take advan
 tage of closed captioning and adjustable player settings. This personalise
 d approach ensures a comfortable and effective learning experience for eve
 ryone.\n 	Stay on top of your learning with real-time progress tracking. K
 nowledge checks reinforce your understanding\, ensuring a solid grasp of t
 he material as you progress.\n 	Benefit from the use of a real world-based
  case study that guides you through using PRINCE2 during the whole project
 \, from start to finish.\n 	Each module includes a detailed learning check
 list\, guiding you through the course structure and ensuring you cover all
  key topics.\n 	Access the official PRINCE2 glossary anytime\, embedded wi
 thin the course. This handy resource is a valuable tool for quick referenc
 e and helps deepen your understanding of PRINCE2 terminology.\n 	Delivered
  via the Canvas Learning Management System\, this course offers a user-fri
 endly learning experience.\n\n\nTraining materials\n\n 	Peoplecert PRINCE2
 ® Practitioner Learner Workbook (including Syllabus\, Quick Reference Gui
 de and two Sample Exams)\n 	Peoplecert PRINCE2 Practitioner e-Learning lea
 rning environment\n 	PRINCE2® Practitioner Exam Voucher to take the exam 
 within 12 months after completing the course\n\n\nRequirements\n\nIn order
  to take the PRINCE2®Practitioner exam you must have passed the PRINCE2®
  Foundation exam.\n\n\nAudience\n\nThe course is suitable for participants
  who are involved in the implementation of projects and who want to acquir
 e the PRINCE2® Practitioner project management certificate.\n\n&nbsp\;\n\
 n&nbsp\;
ATTACH;FMTTYPE=image/jpeg:https://i0.wp.com/academy.polychorcapital.com/wp
 -content/uploads/2025/12/PRINCE2-Project-Management-PRINCE2-7-Practitioner
 -1200x1200-1.png?fit=1200%2C1200&ssl=1
CATEGORIES:PRINCE2 e-Learning
END:VEVENT
BEGIN:VTIMEZONE
TZID:Europe/Bucharest
X-LIC-LOCATION:Europe/Bucharest
BEGIN:DAYLIGHT
DTSTART:20260329T040000
TZOFFSETFROM:+0200
TZOFFSETTO:+0300
TZNAME:EEST
END:DAYLIGHT
END:VTIMEZONE
END:VCALENDAR