BEGIN:VCALENDAR
VERSION:2.0
PRODID:-//wp-events-plugin.com//7.2.3.1//EN
BEGIN:VEVENT
UID:231@academy.polychorcapital.com
DTSTART;TZID=Europe/Bucharest:20260601T090000
DTEND;TZID=Europe/Bucharest:20260603T163000
DTSTAMP:20251231T102229Z
URL:https://academy.polychorcapital.com/events/prince2-agile-foundation-20
 26-06-01/
SUMMARY:PRINCE2® Agile Foundation
DESCRIPTION:&nbsp\;\n\nAbout the course\n\nThe e-Learning PRINCE2® Agile F
 oundation course is aimed at assessing whether the candidate would be able
  to act as an informed member of a project management team on a project us
 ing the PRINCE2® Agile method in an organizational environment that suppo
 rts PRINCE2® Agile. In this sense\, the candidate must be able to demonst
 rate an understanding of the principles and terminology of the method.\n\n
 A core purposes of the PRINCE2® Agile Foundation course is showing you ho
 w PRINCE2® can be used in an Agile driven environment using Lean and Lean
  Startup techniques and to prepare you for the official PRINCE2® Agile Fo
 undation exam.\n\nAfter the course\, you will have the opportunity to take
  the official PRINCE2® Agile Foundation exam within 12 months after compl
 eting the course. If you later wish to sit the PRINCE2® Agile Practitione
 r exam\, you will need to have passed the Foundation exam.\n\nThe study ma
 terials are comprehensive and completely sufficient for the successful pas
 sing of the exam. These include the official Peoplecert Training Materials
  including a Learner Workbbok with slides and sample exams\, a Quick Refer
 ence Guide and an online version of the official PRINCE2 Agile Book.\n\nWh
 at will you learn\n\n 	Agile: Origins\, mindset\, and values\n 	Adopting a
 nd scaling Agile\n 	People and Change\n 	PRINCE2 Project management &amp\;
  Agile Tailoring\n 	PRINCE2 Principles\n 	PRINCE2 Practices\n 	PRINCE2 Pro
 cesses\n 	PRINCE2 Agile in the wider context\n 	AI\, data\, and automation
 \n\n&nbsp\;\n\nE-learning\n\nInteractive\, Self-paced\, Device-friendly\, 
 9-hour content\, Mobile-optimized\, Case studies\, Practical exercises\n\n
 \n 	Experience e-learning through concise\, easily digestible sessions. Pe
 rfect for busy schedules\, these bite-sized modules make learning both man
 ageable and enjoyable.\n 	Dive into an interactive environment filled with
  multimedia elements\, quizzes and activities that make your journey throu
 gh the course thoroughly engaging and enriching.\n 	Take charge of your ed
 ucation. This self-directed learning format lets you choose your focus are
 as\, empowering you to tailor your educational journey to your personal go
 als.\n 	Take advantage of closed captioning and adjustable player settings
 . This personalised approach ensures a comfortable and effective learning 
 experience for everyone.\n 	Stay on top of your learning with real-time pr
 ogress tracking. Knowledge checks reinforce your understanding\, ensuring 
 a solid grasp of the material as you progress.\n 	Benefit from the use of 
 a real world-based case study that guides you through using PRINCE2 during
  the whole project\, from start to finish.\n 	Each module includes a detai
 led learning checklist\, guiding you through the course structure and ensu
 ring you cover all key topics.\n 	Access the official PRINCE2 glossary any
 time\, embedded within the course. This handy resource is a valuable tool 
 for quick reference and helps deepen your understanding of PRINCE2 termino
 logy.\n 	Delivered via the Canvas Learning Management System\, this course
  offers a user-friendly learning experience.\n\n&nbsp\;\n\nTraining materi
 als\n\n 	Peoplecert PRINCE2® Agile Foundation Learner Workbook (including
  Syllabus\, Quick Reference Guide and two Sample Exams)\n 	Peoplecert PRIN
 CE2 Agile Foundation e-Learning learning environment\n 	Peoplecert PRINCE2
  Agile official Book (Digital Version)\n 	PRINCE2® Agile Foundation Exam 
 Voucher to take the exam within 12 months after completing the course\n\n\
 nAudience\n\nThis course is suitable for project managers\, members of pro
 ject teams\, individuals who have a supporting role in projects or are res
 ponsible for quality management\, as well as anyone who in some way partic
 ipates or is related to the implementation of projects.\n\nRequirements\n\
 nThere are no pre-requisites to take the PRINCE2® Agile Foundation exam.\
 n\n&nbsp\;\n\n&nbsp\;
ATTACH;FMTTYPE=image/jpeg:https://i0.wp.com/academy.polychorcapital.com/wp
 -content/uploads/2025/12/PRINCE2-Agile-Foundation-v2-1200x.png?fit=1200%2C
 1200&ssl=1
CATEGORIES:PRINCE2 Agile e-Learning
END:VEVENT
BEGIN:VTIMEZONE
TZID:Europe/Bucharest
X-LIC-LOCATION:Europe/Bucharest
BEGIN:DAYLIGHT
DTSTART:20260329T040000
TZOFFSETFROM:+0200
TZOFFSETTO:+0300
TZNAME:EEST
END:DAYLIGHT
END:VTIMEZONE
END:VCALENDAR