BEGIN:VCALENDAR
VERSION:2.0
PRODID:-//wp-events-plugin.com//7.2.3.1//EN
BEGIN:VEVENT
UID:249@academy.polychorcapital.com
DTSTART;TZID=Europe/Bucharest:20261102T090000
DTEND;TZID=Europe/Bucharest:20261104T163000
DTSTAMP:20251231T102333Z
URL:https://academy.polychorcapital.com/events/prince2-agile-practitioner-
 2026-11-02/
SUMMARY:PRINCE2® Agile Practitioner
DESCRIPTION:&nbsp\;\n\nAbout the course\n\nThe e-Learning PRINCE2® Agile P
 ractitioner course and exam are aimed at assessing whether the candidate w
 ould be able to apply PRINCE2® Agile to the implementation and management
  of a non-complex project in a PRINCE2® Agile supportive organizational e
 nvironment. To this end\, the candidate must demonstrate the competencies 
 required for Foundation level and show that they can adapt and apply PRINC
 E2® Agile to meet needs and solve problems in a given project scenario.\n
 \nWhat will you learn\n\n 	Agile: Origins\, mindset\, and values\n 	Adopti
 ng and scaling Agile\n 	People and Change\n 	PRINCE2 Project management &a
 mp\; Agile Tailoring\n 	PRINCE2 Principles\n 	PRINCE2 Practices\n 	PRINCE2
  Processes\n 	PRINCE2 Agile in the wider context\n 	AI\, data\, and automa
 tion\n\n&nbsp\;\n\nE-learning\n\nInteractive\, Self-paced\, Device-friendl
 y\, 8-hour content\, Mobile-optimized\, Case studies\, Practical exercises
 \n\n\n 	Experience e-learning through concise\, easily digestible sessions
 . Perfect for busy schedules\, these bite-sized modules make learning both
  manageable and enjoyable.\n 	Dive into an interactive environment filled 
 with multimedia elements\, quizzes and activities that make your journey t
 hrough the course thoroughly engaging and enriching.\n 	Take charge of you
 r education. This self-directed learning format lets you choose your focus
  areas\, empowering you to tailor your educational journey to your persona
 l goals.\n 	Take advantage of closed captioning and adjustable player sett
 ings. This personalised approach ensures a comfortable and effective learn
 ing experience for everyone.\n 	Stay on top of your learning with real-tim
 e progress tracking. Knowledge checks reinforce your understanding\, ensur
 ing a solid grasp of the material as you progress.\n 	Benefit from the use
  of a real world-based case study that guides you through using PRINCE2 du
 ring the whole project\, from start to finish.\n 	Each module includes a d
 etailed learning checklist\, guiding you through the course structure and 
 ensuring you cover all key topics.\n 	Access the official PRINCE2 glossary
  anytime\, embedded within the course. This handy resource is a valuable t
 ool for quick reference and helps deepen your understanding of PRINCE2 ter
 minology.\n 	Delivered via the Canvas Learning Management System\, this co
 urse offers a user-friendly learning experience.\n\n&nbsp\;\n\nTraining ma
 terials\n\n 	Peoplecert PRINCE2® Agile Practitioner Learner Workbook (inc
 luding Syllabus\, Quick Reference Guide and two Sample Exams)\n 	Peoplecer
 t PRINCE2 Agile Practitioner e-Learning environment\n 	PRINCE2® Agile Pra
 ctitioner Exam Voucher to take the exam within 12 months after completing 
 the course\n\n \n\nAudience\n\nThe course is suitable for participants wh
 o are involved in the implementation of projects and who want to acquire t
 he PRINCE2® Agile Practitioner project management certificate.\n\n\nRequi
 rements\n\nIn order to take the PRINCE2®Practitioner exam you must have p
 assed the PRINCE2® Agile Foundation exam.\n\n&nbsp\;\n\n&nbsp\;\n\n&nbsp\
 ;
ATTACH;FMTTYPE=image/jpeg:https://i0.wp.com/academy.polychorcapital.com/wp
 -content/uploads/2025/12/PRINCE2-Agile-Practitioner-v2-1200x.png?fit=1200%
 2C1200&ssl=1
CATEGORIES:PRINCE2 Agile e-Learning
END:VEVENT
BEGIN:VTIMEZONE
TZID:Europe/Bucharest
X-LIC-LOCATION:Europe/Bucharest
BEGIN:STANDARD
DTSTART:20261025T030000
TZOFFSETFROM:+0300
TZOFFSETTO:+0200
TZNAME:EET
END:STANDARD
END:VTIMEZONE
END:VCALENDAR