BEGIN:VCALENDAR
VERSION:2.0
PRODID:-//wp-events-plugin.com//7.2.3.1//EN
BEGIN:VEVENT
UID:55@academy.polychorcapital.com
DTSTART;TZID=Europe/Bucharest:20250623T180000
DTEND;TZID=Europe/Bucharest:20250627T210000
DTSTAMP:20241208T154600Z
URL:https://academy.polychorcapital.com/events/prince2-agile-practitioner-
 6/
SUMMARY:PRINCE2® Agile Practitioner
DESCRIPTION:The virtual PRINCE2® Agile Practitioner course and exam are ai
 med at assessing whether the candidate would be able to apply PRINCE2® Ag
 ile to the implementation and management of a non-complex project in a PRI
 NCE2® Agile supportive organizational environment. To this end\, the cand
 idate must demonstrate the competencies required for Foundation level and 
 show that they can adapt and apply PRINCE2® Agile to meet needs and solve
  problems in a given project scenario.
ATTACH;FMTTYPE=image/jpeg:https://i0.wp.com/academy.polychorcapital.com/wp
 -content/uploads/2024/03/resize_285_110_1_1-1-e1717176586826.jpg?fit=243%2
 C110&ssl=1
CATEGORIES:PRINCE2 Agile Training
END:VEVENT
BEGIN:VTIMEZONE
TZID:Europe/Bucharest
X-LIC-LOCATION:Europe/Bucharest
BEGIN:DAYLIGHT
DTSTART:20250330T040000
TZOFFSETFROM:+0200
TZOFFSETTO:+0300
TZNAME:EEST
END:DAYLIGHT
END:VTIMEZONE
END:VCALENDAR